BEGIN:VCALENDAR
VERSION:2.0
PRODID:-//ChamberMaster//Event Calendar 2.0//EN
METHOD:PUBLISH
X-PUBLISHED-TTL:P3D
REFRESH-INTERVAL:P3D
CALSCALE:GREGORIAN
BEGIN:VEVENT
DTSTART:20180518T160000Z
DTEND:20180518T220000Z
X-MICROSOFT-CDO-ALLDAYEVENT:FALSE
SUMMARY:test event
DESCRIPTION:test description
X-ALT-DESC;FMTTYPE=text/html:test description
LOCATION:test location
UID:e.1896.180
SEQUENCE:3
DTSTAMP:20260420T032544Z
URL:http://samcouture.chambermaster.com/events/details/test-event-05-18-2018-180
END:VEVENT

END:VCALENDAR
